BEGIN:VCALENDAR
VERSION:2.0
PRODID:-//wp-events-plugin.com//7.2.3.1//EN
TZID:Australia/Brisbane
X-WR-TIMEZONE:Australia/Brisbane
BEGIN:VEVENT
UID:28@abellpointyc.com.au
DTSTART;TZID=Australia/Brisbane:20171028T173000
DTEND;TZID=Australia/Brisbane:20171028T210000
DTSTAMP:20171017T003555Z
URL:https://abellpointyc.com.au/events/white-on-white/
SUMMARY:White on White
DESCRIPTION:White on White Dinner on Whitehaven Beach 28th of October. Regi
 ster your interest with Abell Point Yacht Club.\n\n$140 per head\n\nPayabl
 e by 14th October 2017\n\nBYO drinks\n\nCommencing at 5.00pm  concluding 
 at 9.00pm\n\n&nbsp\;\n\n   
CATEGORIES:Cruise Events,Social Events
END:VEVENT
BEGIN:VTIMEZONE
TZID:Australia/Brisbane
X-LIC-LOCATION:Australia/Brisbane
BEGIN:STANDARD
DTSTART:20161028T173000
TZOFFSETFROM:+1000
TZOFFSETTO:+1000
TZNAME:AEST
END:STANDARD
END:VTIMEZONE
END:VCALENDAR